BEGIN:VCALENDAR
VERSION:2.0
PRODID:-//LibreRegistration//EN
BEGIN:VEVENT
UID:00000000-0000-4000-8000-000000006996@libreregistration
DTSTAMP:20260423T174620Z
DTSTART:20140218T000000Z
DTEND:20140218T020000Z
SUMMARY:Qjelt — 18/02/2014
END:VEVENT
END:VCALENDAR
