BEGIN:VCALENDAR
VERSION:2.0
PRODID:-//LibreRegistration//EN
BEGIN:VEVENT
UID:00000000-0000-4000-8000-000000006863@libreregistration
DTSTAMP:20260423T174725Z
DTSTART:20140111T000000Z
DTEND:20140111T020000Z
SUMMARY:Atelier Blender — 11/01/2014
END:VEVENT
END:VCALENDAR
