BEGIN:VCALENDAR
VERSION:2.0
PRODID:-//LibreRegistration//EN
BEGIN:VEVENT
UID:00000000-0000-4000-8000-000000006896@libreregistration
DTSTAMP:20260423T174542Z
DTSTART:20140109T000000Z
DTEND:20140109T020000Z
SUMMARY:Qjelt — 09/01/2014
END:VEVENT
END:VCALENDAR
