BEGIN:VCALENDAR
VERSION:2.0
PRODID:-//LibreRegistration//EN
BEGIN:VEVENT
UID:00000000-0000-4000-8000-000000006024@libreregistration
DTSTAMP:20260423T192723Z
DTSTART:20130608T000000Z
DTEND:20130608T020000Z
SUMMARY:Atelier Kde — 08/06/2013
END:VEVENT
END:VCALENDAR
