BEGIN:VCALENDAR
VERSION:2.0
PRODID:-//LibreRegistration//EN
BEGIN:VEVENT
UID:00000000-0000-4000-8000-000000006035@libreregistration
DTSTAMP:20260423T192546Z
DTSTART:20130626T000000Z
DTEND:20130626T020000Z
SUMMARY:Rencontre — 26/06/2013
END:VEVENT
END:VCALENDAR
