BEGIN:VCALENDAR
VERSION:2.0
PRODID:-//LibreRegistration//EN
BEGIN:VEVENT
UID:00000000-0000-4000-8000-000000005763@libreregistration
DTSTAMP:20260423T174625Z
DTSTART:20131225T000000Z
DTEND:20131225T020000Z
SUMMARY:Qjelt — 25/12/2013
END:VEVENT
END:VCALENDAR
