BEGIN:VCALENDAR
VERSION:2.0
PRODID:-//LibreRegistration//EN
BEGIN:VEVENT
UID:00000000-0000-4000-8000-000000006775@libreregistration
DTSTAMP:20260423T174725Z
DTSTART:20131207T000000Z
DTEND:20131207T020000Z
SUMMARY:Atelier Libreoffice — 07/12/2013
END:VEVENT
END:VCALENDAR
