BEGIN:VCALENDAR
VERSION:2.0
PRODID:-//LibreRegistration//EN
BEGIN:VEVENT
UID:00000000-0000-4000-8000-000000006805@libreregistration
DTSTAMP:20260423T174626Z
DTSTART:20131203T000000Z
DTEND:20131203T020000Z
SUMMARY:Qjelt — 03/12/2013
END:VEVENT
END:VCALENDAR
