BEGIN:VCALENDAR
VERSION:2.0
PRODID:-//LibreRegistration//EN
BEGIN:VEVENT
UID:00000000-0000-4000-8000-000000006735@libreregistration
DTSTAMP:20260423T174426Z
DTSTART:20131124T000000Z
DTEND:20131124T020000Z
SUMMARY:Atelier Openstack Intro — 24/11/2013
END:VEVENT
END:VCALENDAR
