BEGIN:VCALENDAR
VERSION:2.0
PRODID:-//LibreRegistration//EN
BEGIN:VEVENT
UID:00000000-0000-4000-8000-000000006217@libreregistration
DTSTAMP:20260423T192947Z
DTSTART:20131116T000000Z
DTEND:20131116T020000Z
SUMMARY:Atelier Blender — 16/11/2013
END:VEVENT
END:VCALENDAR
