BEGIN:VCALENDAR
VERSION:2.0
PRODID:-//LibreRegistration//EN
BEGIN:VEVENT
UID:00000000-0000-4000-8000-000000006172@libreregistration
DTSTAMP:20260423T192707Z
DTSTART:20131024T000000Z
DTEND:20131024T020000Z
SUMMARY:Qjelt — 24/10/2013
END:VEVENT
END:VCALENDAR
