BEGIN:VCALENDAR
VERSION:2.0
PRODID:-//LibreRegistration//EN
BEGIN:VEVENT
UID:00000000-0000-4000-8000-000000006110@libreregistration
DTSTAMP:20260423T192853Z
DTSTART:20131005T000000Z
DTEND:20131005T020000Z
SUMMARY:Atelier Libreoffice — 05/10/2013
END:VEVENT
END:VCALENDAR
