BEGIN:VCALENDAR
VERSION:2.0
PRODID:-//LibreRegistration//EN
BEGIN:VEVENT
UID:00000000-0000-4000-8000-000000006081@libreregistration
DTSTAMP:20260423T192707Z
DTSTART:20130822T000000Z
DTEND:20130822T020000Z
SUMMARY:Release Kde 410 — 22/08/2013
END:VEVENT
END:VCALENDAR
