BEGIN:VCALENDAR
VERSION:2.0
PRODID:-//LibreRegistration//EN
BEGIN:VEVENT
UID:00000000-0000-4000-8000-000000006058@libreregistration
DTSTAMP:20260423T192708Z
DTSTART:20130704T000000Z
DTEND:20130704T020000Z
SUMMARY:Qjelt — 04/07/2013
END:VEVENT
END:VCALENDAR
