BEGIN:VCALENDAR
VERSION:2.0
PRODID:-//LibreRegistration//EN
BEGIN:VEVENT
UID:00000000-0000-4000-8000-000000005987@libreregistration
DTSTAMP:20260423T192351Z
DTSTART:20130608T000000Z
DTEND:20130608T020000Z
SUMMARY:Atelier Javascript — 08/06/2013
END:VEVENT
END:VCALENDAR
