BEGIN:VCALENDAR
VERSION:2.0
PRODID:-//LibreRegistration//EN
BEGIN:VEVENT
UID:00000000-0000-4000-8000-000000006015@libreregistration
DTSTAMP:20260423T192908Z
DTSTART:20130525T000000Z
DTEND:20130525T020000Z
SUMMARY:Atelier Libreoffice — 25/05/2013
END:VEVENT
END:VCALENDAR
