BEGIN:VCALENDAR
VERSION:2.0
PRODID:-//LibreRegistration//EN
BEGIN:VEVENT
UID:00000000-0000-4000-8000-000000005953@libreregistration
DTSTAMP:20260423T192800Z
DTSTART:20130411T000000Z
DTEND:20130411T020000Z
SUMMARY:Qjelt — 11/04/2013
END:VEVENT
END:VCALENDAR
