BEGIN:VCALENDAR
VERSION:2.0
PRODID:-//LibreRegistration//EN
BEGIN:VEVENT
UID:00000000-0000-4000-8000-000000005917@libreregistration
DTSTAMP:20260423T211017Z
DTSTART:20130406T000000Z
DTEND:20130406T020000Z
SUMMARY:Atelier Javascript — 06/04/2013
END:VEVENT
END:VCALENDAR
