BEGIN:VCALENDAR
VERSION:2.0
PRODID:-//LibreRegistration//EN
BEGIN:VEVENT
UID:00000000-0000-4000-8000-000000005841@libreregistration
DTSTAMP:20260423T211522Z
DTSTART:20130316T000000Z
DTEND:20130316T020000Z
SUMMARY:Atelier Blender — 16/03/2013
END:VEVENT
END:VCALENDAR
