BEGIN:VCALENDAR
VERSION:2.0
PRODID:-//LibreRegistration//EN
BEGIN:VEVENT
UID:00000000-0000-4000-8000-000000005872@libreregistration
DTSTAMP:20260423T211347Z
DTSTART:20130307T000000Z
DTEND:20130307T020000Z
SUMMARY:Qjelt — 07/03/2013
END:VEVENT
END:VCALENDAR
