BEGIN:VCALENDAR
VERSION:2.0
PRODID:-//LibreRegistration//EN
BEGIN:VEVENT
UID:00000000-0000-4000-8000-000000005836@libreregistration
DTSTAMP:20260423T211520Z
DTSTART:20130216T000000Z
DTEND:20130216T020000Z
SUMMARY:Atelier Blender — 16/02/2013
END:VEVENT
END:VCALENDAR
