BEGIN:VCALENDAR
VERSION:2.0
PRODID:-//LibreRegistration//EN
BEGIN:VEVENT
UID:00000000-0000-4000-8000-000000005738@libreregistration
DTSTAMP:20260423T211445Z
DTSTART:20130126T000000Z
DTEND:20130126T020000Z
SUMMARY:Atelier Libreoffice — 26/01/2013
END:VEVENT
END:VCALENDAR
