BEGIN:VCALENDAR
VERSION:2.0
PRODID:-//LibreRegistration//EN
BEGIN:VEVENT
UID:00000000-0000-4000-8000-000000005796@libreregistration
DTSTAMP:20260423T211018Z
DTSTART:20130116T000000Z
DTEND:20130116T020000Z
SUMMARY:Atelier Python — 16/01/2013
END:VEVENT
END:VCALENDAR
