BEGIN:VCALENDAR
VERSION:2.0
PRODID:-//LibreRegistration//EN
BEGIN:VEVENT
UID:00000000-0000-4000-8000-000000005789@libreregistration
DTSTAMP:20260423T211346Z
DTSTART:20130106T000000Z
DTEND:20130106T020000Z
SUMMARY:Release Kde 410 — 06/01/2013
END:VEVENT
END:VCALENDAR
