BEGIN:VCALENDAR
VERSION:2.0
PRODID:-//LibreRegistration//EN
BEGIN:VEVENT
UID:00000000-0000-4000-8000-000000005690@libreregistration
DTSTAMP:20260423T211231Z
DTSTART:20121220T000000Z
DTEND:20121220T020000Z
SUMMARY:Qjelt — 20/12/2012
END:VEVENT
END:VCALENDAR
