BEGIN:VCALENDAR
VERSION:2.0
PRODID:-//LibreRegistration//EN
BEGIN:VEVENT
UID:00000000-0000-4000-8000-000000005659@libreregistration
DTSTAMP:20260423T211018Z
DTSTART:20121215T000000Z
DTEND:20121215T020000Z
SUMMARY:Atelier Python — 15/12/2012
END:VEVENT
END:VCALENDAR
