BEGIN:VCALENDAR
VERSION:2.0
PRODID:-//LibreRegistration//EN
BEGIN:VEVENT
UID:00000000-0000-4000-8000-000000005627@libreregistration
DTSTAMP:20260423T211309Z
DTSTART:20121201T000000Z
DTEND:20121201T020000Z
SUMMARY:Atelier Libreoffice — 01/12/2012
END:VEVENT
END:VCALENDAR
