BEGIN:VCALENDAR
VERSION:2.0
PRODID:-//LibreRegistration//EN
BEGIN:VEVENT
UID:00000000-0000-4000-8000-000000005366@libreregistration
DTSTAMP:20260423T211542Z
DTSTART:20121125T000000Z
DTEND:20121125T020000Z
SUMMARY:Atelier Ubuntu Apres Midi — 25/11/2012
END:VEVENT
END:VCALENDAR
