BEGIN:VCALENDAR
VERSION:2.0
PRODID:-//LibreRegistration//EN
BEGIN:VEVENT
UID:00000000-0000-4000-8000-000000005158@libreregistration
DTSTAMP:20260423T230633Z
DTSTART:20121125T000000Z
DTEND:20121125T020000Z
SUMMARY:Atelier Arduino — 25/11/2012
END:VEVENT
END:VCALENDAR
