BEGIN:VCALENDAR
VERSION:2.0
PRODID:-//LibreRegistration//EN
BEGIN:VEVENT
UID:00000000-0000-4000-8000-000000005589@libreregistration
DTSTAMP:20260423T230255Z
DTSTART:20121113T000000Z
DTEND:20121113T020000Z
SUMMARY:Qjelt — 13/11/2012
END:VEVENT
END:VCALENDAR
