BEGIN:VCALENDAR
VERSION:2.0
PRODID:-//LibreRegistration//EN
BEGIN:VEVENT
UID:00000000-0000-4000-8000-000000005391@libreregistration
DTSTAMP:20260423T230256Z
DTSTART:20121023T000000Z
DTEND:20121023T020000Z
SUMMARY:Qjelt — 23/10/2012
END:VEVENT
END:VCALENDAR
