BEGIN:VCALENDAR
VERSION:2.0
PRODID:-//LibreRegistration//EN
BEGIN:VEVENT
UID:00000000-0000-4000-8000-000000005344@libreregistration
DTSTAMP:20260423T230424Z
DTSTART:20121021T000000Z
DTEND:20121021T020000Z
SUMMARY:Cartoparty — 21/10/2012
END:VEVENT
END:VCALENDAR
