BEGIN:VCALENDAR
VERSION:2.0
PRODID:-//LibreRegistration//EN
BEGIN:VEVENT
UID:00000000-0000-4000-8000-000000005347@libreregistration
DTSTAMP:20260423T230455Z
DTSTART:20121020T000000Z
DTEND:20121020T020000Z
SUMMARY:Atelier Blender — 20/10/2012
END:VEVENT
END:VCALENDAR
