BEGIN:VCALENDAR
VERSION:2.0
PRODID:-//LibreRegistration//EN
BEGIN:VEVENT
UID:00000000-0000-4000-8000-000000004637@libreregistration
DTSTAMP:20260423T230424Z
DTSTART:20120920T000000Z
DTEND:20120920T020000Z
SUMMARY:Qjelt — 20/09/2012
END:VEVENT
END:VCALENDAR
