BEGIN:VCALENDAR
VERSION:2.0
PRODID:-//LibreRegistration//EN
BEGIN:VEVENT
UID:00000000-0000-4000-8000-000000004620@libreregistration
DTSTAMP:20260423T230142Z
DTSTART:20120829T000000Z
DTEND:20120829T020000Z
SUMMARY:Release Kde 49 — 29/08/2012
END:VEVENT
END:VCALENDAR
