BEGIN:VCALENDAR
VERSION:2.0
PRODID:-//LibreRegistration//EN
BEGIN:VEVENT
UID:00000000-0000-4000-8000-000000004594@libreregistration
DTSTAMP:20260423T230456Z
DTSTART:20120602T000000Z
DTEND:20120602T020000Z
SUMMARY:Atelier Blender — 02/06/2012
END:VEVENT
END:VCALENDAR
