BEGIN:VCALENDAR
VERSION:2.0
PRODID:-//LibreRegistration//EN
BEGIN:VEVENT
UID:00000000-0000-4000-8000-000000004568@libreregistration
DTSTAMP:20260423T230455Z
DTSTART:20120512T000000Z
DTEND:20120512T020000Z
SUMMARY:Atelier Blender — 12/05/2012
END:VEVENT
END:VCALENDAR
