BEGIN:VCALENDAR
VERSION:2.0
PRODID:-//LibreRegistration//EN
BEGIN:VEVENT
UID:00000000-0000-4000-8000-000000004551@libreregistration
DTSTAMP:20260423T230255Z
DTSTART:20120503T000000Z
DTEND:20120503T020000Z
SUMMARY:Qjelt — 03/05/2012
END:VEVENT
END:VCALENDAR
