BEGIN:VCALENDAR
VERSION:2.0
PRODID:-//LibreRegistration//EN
BEGIN:VEVENT
UID:00000000-0000-4000-8000-000000004521@libreregistration
DTSTAMP:20260423T230512Z
DTSTART:20120428T000000Z
DTEND:20120428T020000Z
SUMMARY:Atelier Blender — 28/04/2012
END:VEVENT
END:VCALENDAR
