BEGIN:VCALENDAR
VERSION:2.0
PRODID:-//LibreRegistration//EN
BEGIN:VEVENT
UID:00000000-0000-4000-8000-000000004514@libreregistration
DTSTAMP:20260423T230558Z
DTSTART:20120324T000000Z
DTEND:20120324T020000Z
SUMMARY:Atelier Libreoffice — 24/03/2012
END:VEVENT
END:VCALENDAR
