BEGIN:VCALENDAR
VERSION:2.0
PRODID:-//LibreRegistration//EN
BEGIN:VEVENT
UID:00000000-0000-4000-8000-000000004470@libreregistration
DTSTAMP:20260423T230224Z
DTSTART:20120308T000000Z
DTEND:20120308T020000Z
SUMMARY:Qjelt — 08/03/2012
END:VEVENT
END:VCALENDAR
