BEGIN:VCALENDAR
VERSION:2.0
PRODID:-//LibreRegistration//EN
BEGIN:VEVENT
UID:00000000-0000-4000-8000-000000004434@libreregistration
DTSTAMP:20260424T004148Z
DTSTART:20120303T000000Z
DTEND:20120303T020000Z
SUMMARY:Atelier Libreoffice — 03/03/2012
END:VEVENT
END:VCALENDAR
