BEGIN:VCALENDAR
VERSION:2.0
PRODID:-//LibreRegistration//EN
BEGIN:VEVENT
UID:00000000-0000-4000-8000-000000004404@libreregistration
DTSTAMP:20260424T004100Z
DTSTART:20120205T000000Z
DTEND:20120205T020000Z
SUMMARY:Atelier Kde — 05/02/2012
END:VEVENT
END:VCALENDAR
