BEGIN:VCALENDAR
VERSION:2.0
PRODID:-//LibreRegistration//EN
BEGIN:VEVENT
UID:00000000-0000-4000-8000-000000004401@libreregistration
DTSTAMP:20260424T004234Z
DTSTART:20120204T000000Z
DTEND:20120204T020000Z
SUMMARY:Atelier Kde — 04/02/2012
END:VEVENT
END:VCALENDAR
