BEGIN:VCALENDAR
VERSION:2.0
PRODID:-//LibreRegistration//EN
BEGIN:VEVENT
UID:00000000-0000-4000-8000-000000004421@libreregistration
DTSTAMP:20260424T004245Z
DTSTART:20120204T000000Z
DTEND:20120204T020000Z
SUMMARY:Atelier Blender — 04/02/2012
END:VEVENT
END:VCALENDAR
