BEGIN:VCALENDAR
VERSION:2.0
PRODID:-//LibreRegistration//EN
BEGIN:VEVENT
UID:00000000-0000-4000-8000-000000004384@libreregistration
DTSTAMP:20260424T003856Z
DTSTART:20120125T000000Z
DTEND:20120125T020000Z
SUMMARY:Release Kde 48 — 25/01/2012
END:VEVENT
END:VCALENDAR
