BEGIN:VCALENDAR
VERSION:2.0
PRODID:-//LibreRegistration//EN
BEGIN:VEVENT
UID:00000000-0000-4000-8000-000000004321@libreregistration
DTSTAMP:20260424T004100Z
DTSTART:20120107T000000Z
DTEND:20120107T020000Z
SUMMARY:Atelier Blender — 07/01/2012
END:VEVENT
END:VCALENDAR
