BEGIN:VCALENDAR
VERSION:2.0
PRODID:-//LibreRegistration//EN
BEGIN:VEVENT
UID:00000000-0000-4000-8000-000000004312@libreregistration
DTSTAMP:20260424T004146Z
DTSTART:20111203T000000Z
DTEND:20111203T020000Z
SUMMARY:Atelier Libreoffice — 03/12/2011
END:VEVENT
END:VCALENDAR
