BEGIN:VCALENDAR
VERSION:2.0
PRODID:-//LibreRegistration//EN
BEGIN:VEVENT
UID:00000000-0000-4000-8000-000000004027@libreregistration
DTSTAMP:20260424T004101Z
DTSTART:20111127T000000Z
DTEND:20111127T020000Z
SUMMARY:Atelier Qtquick — 27/11/2011
END:VEVENT
END:VCALENDAR
