BEGIN:VCALENDAR
VERSION:2.0
PRODID:-//LibreRegistration//EN
BEGIN:VEVENT
UID:00000000-0000-4000-8000-000000004255@libreregistration
DTSTAMP:20260424T004024Z
DTSTART:20111117T000000Z
DTEND:20111117T020000Z
SUMMARY:Qjelt — 17/11/2011
END:VEVENT
END:VCALENDAR
